BEGIN:VCALENDAR
VERSION:2.0
PRODID:-//Swanage Chamber of Trade - ECPv6.15.20//NONSGML v1.0//EN
CALSCALE:GREGORIAN
METHOD:PUBLISH
X-WR-CALNAME:Swanage Chamber of Trade
X-ORIGINAL-URL:https://swanagechamber.co.uk
X-WR-CALDESC:Events for Swanage Chamber of Trade
REFRESH-INTERVAL;VALUE=DURATION:PT1H
X-Robots-Tag:noindex
X-PUBLISHED-TTL:PT1H
BEGIN:VTIMEZONE
TZID:Europe/London
BEGIN:DAYLIGHT
TZOFFSETFROM:+0000
TZOFFSETTO:+0100
TZNAME:BST
DTSTART:20250330T010000
END:DAYLIGHT
BEGIN:STANDARD
TZOFFSETFROM:+0100
TZOFFSETTO:+0000
TZNAME:GMT
DTSTART:20251026T010000
END:STANDARD
BEGIN:DAYLIGHT
TZOFFSETFROM:+0000
TZOFFSETTO:+0100
TZNAME:BST
DTSTART:20260329T010000
END:DAYLIGHT
BEGIN:STANDARD
TZOFFSETFROM:+0100
TZOFFSETTO:+0000
TZNAME:GMT
DTSTART:20261025T010000
END:STANDARD
BEGIN:DAYLIGHT
TZOFFSETFROM:+0000
TZOFFSETTO:+0100
TZNAME:BST
DTSTART:20270328T010000
END:DAYLIGHT
BEGIN:STANDARD
TZOFFSETFROM:+0100
TZOFFSETTO:+0000
TZNAME:GMT
DTSTART:20271031T010000
END:STANDARD
END:VTIMEZONE
BEGIN:VEVENT
DTSTART;TZID=Europe/London:20260523T080000
DTEND;TZID=Europe/London:20260607T170000
DTSTAMP:20260420T073202
CREATED:20260419T135020Z
LAST-MODIFIED:20260419T135020Z
UID:3029-1779523200-1780851600@swanagechamber.co.uk
SUMMARY:Purbeck Art Weeks
DESCRIPTION:Purbeck Art Weeks 2026 promises two inspiring weeks of creativity\, performance and discovery across one of the most beautiful corners of the UK. \nHere’s a taste of what’s in store: \nA Spectacular Opening Night \nThe festival launches with a major highlight: I Fagiolini\, the internationally acclaimed vocal ensemble known for their imaginative programmes and world-class performances. They’ll set the tone for a wonderfully diverse and atmospheric music series running throughout the festival. \nArt Everywhere \nVisitors can expect to see an incredible array of visual arts at our Festival hub at Rollington Barn\, plus plenty of local artists will open their doors for Open Studios\, sharing work in painting\, ceramics\, sculpture\, print\, glass\, textiles and more. Many offer demonstrations and artwork for sale. \nMusic in Beautiful Settings \nAlongside the opening concert\, PAW will offer a diverse music and events programme featuring world-class ensembles\, soloists and much more across Purbeck’s characterful and easy to reach venues. \nExhibition at Castle View \nWe are delighted to partner with the National Trust to bring our exhibition back to Castle View Welcome Centre in Corfe Castle for 2026\, showcasing fresh talent as well as established artists from across the region. Expect bold new artists\, a mix of media and an exciting snapshot of Purbeck’s creativity. \nFun for all \nDon’t miss our Purbeck Young Artists exhibition at Rollington Barn\, featuring creative works made by school children from across the region. And next door you can expect more pop-up demonstrations where visitors of all ages can try their hand at different crafts and discover new artistic skills. \nFor our ticketed events\, we also offer discounts for young people and students\, making music and the arts as accessible as we can. \nArt Meets Landscape \nOne of the joys of PAW is exploring art against the backdrop of coast and countryside. Many studios and venues are walkable\, and visitors often visit our hidden gems by bus or the Swanage Railway. \nA Festival for Everyone \nWhether you’re an art collector\, music-lover\, day tripper or holidaymaker\, PAW offers a mix of free and ticketed activity and events for all ages. Expect opportunities to meet artists\, enjoy performances\, take in exhibitions and discover new work at your own pace.
URL:https://swanagechamber.co.uk/event/purbeck-art-weeks/
CATEGORIES:Events
ATTACH;FMTTYPE=image/jpeg:https://swanagechamber.co.uk/wp-content/uploads/2026/04/xni8qhdd_1904036041.png.jpeg
END:VEVENT
BEGIN:VEVENT
DTSTART;VALUE=DATE:20260725
DTEND;VALUE=DATE:20260802
DTSTAMP:20260420T073202
CREATED:20230201T114850Z
LAST-MODIFIED:20260208T151827Z
UID:1818-1784937600-1785628799@swanagechamber.co.uk
SUMMARY:Swanage Carnival 2026
DESCRIPTION:Swanage Carnival – The South Coast’s premier carnival event for the whole family to enjoy \nWhen is the Carnival Procession?\nThe Carnival Procession takes place on the first Sunday of Carnival week starting at 3pm \nWhat time do the fireworks start?\nThe Fireworks start at 9.45pm \nSwanage Carnival 2026 is from Saturday July 25th – Saturday August 01st
URL:https://swanagechamber.co.uk/event/swanage-carnival-2023/
LOCATION:Various Locations in Swanage\, Shore Road\, Swanage\, Dorset\, United Kingdom
CATEGORIES:Events
ATTACH;FMTTYPE=image/jpeg:https://swanagechamber.co.uk/wp-content/uploads/2023/02/swanage-carnival-2022.jpg
END:VEVENT
BEGIN:VEVENT
DTSTART;VALUE=DATE:20260911
DTEND;VALUE=DATE:20260914
DTSTAMP:20260420T073202
CREATED:20230201T114314Z
LAST-MODIFIED:20260208T152916Z
UID:1812-1789084800-1789343999@swanagechamber.co.uk
SUMMARY:Swanage Folk Festival 2026
DESCRIPTION:The Swanage Folk Festival returns on the 11th-13th September 2026. \nA weekend of concerts\, dance displays\, dance & music workshops\, children’s activities\, sessions and ceilidh. \nFree and ticketed concerts featuring top folk artists. A weekend of fun\, for everyone. \n 
URL:https://swanagechamber.co.uk/event/swanage-folk-festival-2026/
LOCATION:Various Locations in Swanage\, Shore Road\, Swanage\, Dorset\, United Kingdom
CATEGORIES:Events
ATTACH;FMTTYPE=image/jpeg:https://swanagechamber.co.uk/wp-content/uploads/2023/02/Swanage-Folk-Festival.jpeg
END:VEVENT
BEGIN:VEVENT
DTSTART;TZID=Europe/London:20261001T200000
DTEND;TZID=Europe/London:20261004T233000
DTSTAMP:20260420T073202
CREATED:20230201T115052Z
LAST-MODIFIED:20260208T152608Z
UID:1821-1790884800-1791156600@swanagechamber.co.uk
SUMMARY:Swanage Blues Festival October 2026
DESCRIPTION:THE SWANAGE BLUES & ROOTS FESTIVAL 01st-04th October 2026 \nThe Big Town Blues Party on the South Coast\n50 great gigs — 30 great acts — 15 indoor venues — open mic and jam sessions \nA full programme of quality bands throughout the Swanage Blues Festival. This independent festival depends on the sale of support wristbands to keep it going (see link above to buy a wristband). \nThis times for the October 2026 Festival are:\nThursday 8.30pm-11.00pm\nFriday 2pm-11.30pm\nSaturday 2pm-11.30pm\nSunday 1pm-11.30pm
URL:https://swanagechamber.co.uk/event/swanage-blues-festival-october-2026/
LOCATION:Various Locations in Swanage\, Shore Road\, Swanage\, Dorset\, United Kingdom
CATEGORIES:Events
ATTACH;FMTTYPE=image/jpeg:https://swanagechamber.co.uk/wp-content/uploads/2023/02/Swanage-Blues-Festival.jpeg
END:VEVENT
END:VCALENDAR