BEGIN:VCALENDAR
VERSION:2.0
PRODID:-//Swanage Chamber of Trade - ECPv6.15.20//NONSGML v1.0//EN
CALSCALE:GREGORIAN
METHOD:PUBLISH
X-ORIGINAL-URL:https://swanagechamber.co.uk
X-WR-CALDESC:Events for Swanage Chamber of Trade
REFRESH-INTERVAL;VALUE=DURATION:PT1H
X-Robots-Tag:noindex
X-PUBLISHED-TTL:PT1H
BEGIN:VTIMEZONE
TZID:Europe/London
BEGIN:DAYLIGHT
TZOFFSETFROM:+0000
TZOFFSETTO:+0100
TZNAME:BST
DTSTART:20250330T010000
END:DAYLIGHT
BEGIN:STANDARD
TZOFFSETFROM:+0100
TZOFFSETTO:+0000
TZNAME:GMT
DTSTART:20251026T010000
END:STANDARD
BEGIN:DAYLIGHT
TZOFFSETFROM:+0000
TZOFFSETTO:+0100
TZNAME:BST
DTSTART:20260329T010000
END:DAYLIGHT
BEGIN:STANDARD
TZOFFSETFROM:+0100
TZOFFSETTO:+0000
TZNAME:GMT
DTSTART:20261025T010000
END:STANDARD
BEGIN:DAYLIGHT
TZOFFSETFROM:+0000
TZOFFSETTO:+0100
TZNAME:BST
DTSTART:20270328T010000
END:DAYLIGHT
BEGIN:STANDARD
TZOFFSETFROM:+0100
TZOFFSETTO:+0000
TZNAME:GMT
DTSTART:20271031T010000
END:STANDARD
END:VTIMEZONE
BEGIN:VEVENT
DTSTART;TZID=Europe/London:20260508T080000
DTEND;TZID=Europe/London:20260510T170000
DTSTAMP:20260420T041244
CREATED:20260418T154936Z
LAST-MODIFIED:20260418T154936Z
UID:3021-1778227200-1778432400@swanagechamber.co.uk
SUMMARY:Swanage Railway - Diesel Gala
DESCRIPTION:A three day feast of diesel as the Swanage Railway home fleet is joined by a host of visitors and works an intensive and varied timetable of passenger trains giving visitors the opportunity to ride behind as many of the engines as possible\, as well as giving great photo opportunities. \nPlus there will be a Beer Festival all weekend at Corfe Castle railway station. \nSee the Swanage Railway website for full details of train times and fares.
URL:https://swanagechamber.co.uk/event/swanage-railway-diesel-gala/
ATTACH;FMTTYPE=image/jpeg:https://swanagechamber.co.uk/wp-content/uploads/2026/04/diesel_gala_1237210013.jpg
END:VEVENT
END:VCALENDAR