BEGIN:VCALENDAR
VERSION:2.0
PRODID:-//Swanage Chamber of Trade - ECPv6.15.20//NONSGML v1.0//EN
CALSCALE:GREGORIAN
METHOD:PUBLISH
X-ORIGINAL-URL:https://swanagechamber.co.uk
X-WR-CALDESC:Events for Swanage Chamber of Trade
REFRESH-INTERVAL;VALUE=DURATION:PT1H
X-Robots-Tag:noindex
X-PUBLISHED-TTL:PT1H
BEGIN:VTIMEZONE
TZID:Europe/London
BEGIN:DAYLIGHT
TZOFFSETFROM:+0000
TZOFFSETTO:+0100
TZNAME:BST
DTSTART:20250330T010000
END:DAYLIGHT
BEGIN:STANDARD
TZOFFSETFROM:+0100
TZOFFSETTO:+0000
TZNAME:GMT
DTSTART:20251026T010000
END:STANDARD
BEGIN:DAYLIGHT
TZOFFSETFROM:+0000
TZOFFSETTO:+0100
TZNAME:BST
DTSTART:20260329T010000
END:DAYLIGHT
BEGIN:STANDARD
TZOFFSETFROM:+0100
TZOFFSETTO:+0000
TZNAME:GMT
DTSTART:20261025T010000
END:STANDARD
BEGIN:DAYLIGHT
TZOFFSETFROM:+0000
TZOFFSETTO:+0100
TZNAME:BST
DTSTART:20270328T010000
END:DAYLIGHT
BEGIN:STANDARD
TZOFFSETFROM:+0100
TZOFFSETTO:+0000
TZNAME:GMT
DTSTART:20271031T010000
END:STANDARD
END:VTIMEZONE
BEGIN:VEVENT
DTSTART;TZID=Europe/London:20260305T190000
DTEND;TZID=Europe/London:20260305T210000
DTSTAMP:20260420T041321
CREATED:20220305T121430Z
LAST-MODIFIED:20260208T154919Z
UID:620-1772737200-1772744400@swanagechamber.co.uk
SUMMARY:Swanage Chamber of Trade Meeting 2026
DESCRIPTION:Save the date in your diary! \nUsually the second Tuesday of every month March 2026 : 19:00 – 21:00\nLocation : The Grand Hotel Swanage\n(bar will be open) \nSwanage Chamber of Trade invites you to an evening of business information & networking\nThis is a wonderful opportunity to network with other local businesses\, don’t miss out!\nCome and meet and speak to the Chamber Committee\, find out what we do and how we can help your business. \nWe hope to see you there!\nSwanage Chamber of Trade Committee.
URL:https://swanagechamber.co.uk/event/swanage-chamber-of-trade-meeting/
LOCATION:The Grand Hotel\, Burlington Road\,\, Swanage\, Dorset\, BH19 1LU\, United Kingdom
CATEGORIES:Meetings
ATTACH;FMTTYPE=image/jpeg:https://swanagechamber.co.uk/wp-content/uploads/2022/03/Event-Image.jpg
END:VEVENT
END:VCALENDAR